BEGIN:VCALENDAR
VERSION:2.0
PRODID:spatie/icalendar-generator
DESCRIPTION:Events from Republican Women of Pitt County
X-WR-CALDESC:Events from Republican Women of Pitt County
REFRESH-INTERVAL;VALUE=DURATION:PT1440M
X-PUBLISHED-TTL:PT1440M
BEGIN:VTIMEZONE
TZID:Etc/GMT+0
BEGIN:STANDARD
DTSTART:20241222T113000Z
TZOFFSETFROM:+0000
TZOFFSETTO:+0000
END:STANDARD
END:VTIMEZONE
BEGIN:VTIMEZONE
TZID:UTC
BEGIN:STANDARD
DTSTART:20250725T082530Z
TZOFFSETFROM:+0000
TZOFFSETTO:+0000
END:STANDARD
END:VTIMEZONE
BEGIN:VEVENT
UID:141-136
DTSTAMP:20260421T082530Z
SUMMARY:Meeting
LOCATION:
ORGANIZER;CN=The Republican Women of Pitt County:MAILTO:kenrobol01@gmail.co
 m
DTSTART;TZID=Etc/GMT+0:20250918T113000
DTEND;TZID=Etc/GMT+0:20250918T130000
X-ALT-DESC;FMTTYPE=TEXT/HTML:Reminder — Republican Women of Pitt County M
 eeting This Thursday! Join us for fellowship and an engaging program: Soci
 al at 11:30 AM Meeting at 12:00 Noon Guest Speaker: Dale Davis Don’t mis
 s this chance to connect\, share ideas\, and hear from our special guest. 
 Bring a friend and join us Thursday — we look forward&amp;hellip\;
CATEGORIES:Events
URL;VALUE=URI:https://rwpcnc.org/mc-events/meeting/
METHOD:PUBLISH
END:VEVENT
END:VCALENDAR