BEGIN:VCALENDAR
VERSION:2.0
PRODID:spatie/icalendar-generator
DESCRIPTION:Events from Republican Women of Pitt County
X-WR-CALDESC:Events from Republican Women of Pitt County
REFRESH-INTERVAL;VALUE=DURATION:PT1440M
X-PUBLISHED-TTL:PT1440M
BEGIN:VTIMEZONE
TZID:Etc/GMT+0
BEGIN:STANDARD
DTSTART:20240623T110000Z
TZOFFSETFROM:+0000
TZOFFSETTO:+0000
END:STANDARD
END:VTIMEZONE
BEGIN:VTIMEZONE
TZID:UTC
BEGIN:STANDARD
DTSTART:20250725T081859Z
TZOFFSETFROM:+0000
TZOFFSETTO:+0000
END:STANDARD
END:VTIMEZONE
BEGIN:VEVENT
UID:134-132
DTSTAMP:20260421T081859Z
SUMMARY:Reminder: Third Thursday Meeting – March 20\, 2025
LOCATION:
ORGANIZER;CN=The Republican Women of Pitt County:MAILTO:kenrobol01@gmail.co
 m
DTSTART;TZID=Etc/GMT+0:20250320T110000
DTEND;TZID=Etc/GMT+0:20250320T130000
X-ALT-DESC;FMTTYPE=TEXT/HTML:Reminder: Third Thursday Meeting – March 20\
 , 2025 Join us for our upcoming Third Thursday meeting\, featuring Gay Dil
 lard\, current Chair of NC's 6th Congressional District and candidate for 
 Vice Chair of the North Carolina GOP. citeturn0search0 Date: Thur
 sday\, March 20\, 2025 This is a valuable opportunity to hear from a dedic
 ated leader about her&amp;hellip\;
CATEGORIES:Events
URL;VALUE=URI:https://rwpcnc.org/mc-events/reminder-third-thursday-meeting-
 march-20-2025/
METHOD:PUBLISH
END:VEVENT
END:VCALENDAR