BEGIN:VCALENDAR
VERSION:2.0
PRODID:spatie/icalendar-generator
DESCRIPTION:Events from Republican Women of Pitt County
X-WR-CALDESC:Events from Republican Women of Pitt County
REFRESH-INTERVAL;VALUE=DURATION:PT1440M
X-PUBLISHED-TTL:PT1440M
BEGIN:VTIMEZONE
TZID:Etc/GMT+0
BEGIN:STANDARD
DTSTART:20240611T120000Z
TZOFFSETFROM:+0000
TZOFFSETTO:+0000
END:STANDARD
END:VTIMEZONE
BEGIN:VTIMEZONE
TZID:UTC
BEGIN:STANDARD
DTSTART:20250725T082539Z
TZOFFSETFROM:+0000
TZOFFSETTO:+0000
END:STANDARD
END:VTIMEZONE
BEGIN:VEVENT
UID:132-131
DTSTAMP:20260421T082539Z
SUMMARY:🚨 Pitt County GOP Convention – Mark Your Calendars! 🚨
LOCATION:
ORGANIZER;CN=The Republican Women of Pitt County:MAILTO:kenrobol01@gmail.co
 m
DTSTART;TZID=Etc/GMT+0:20250308T120000
DTEND;TZID=Etc/GMT+0:20250308T130000
X-ALT-DESC;FMTTYPE=TEXT/HTML:&amp;nbsp\; The annual Pitt County GOP Convention 
 is almost here\, and we need a strong turnout! This is your chance to help
  elect new officers for the Pitt GOP and board. Plus\, to be a delegate fo
 r the District and State Convention\, you must be certified at this local 
 County Convention. 📅 Date: Saturday\, March&amp;hellip\;
CATEGORIES:Events
URL;VALUE=URI:https://rwpcnc.org/mc-events/%f0%9f%9a%a8-pitt-county-gop-con
 vention-mark-your-calendars-%f0%9f%9a%a8/
METHOD:PUBLISH
END:VEVENT
END:VCALENDAR