BEGIN:VCALENDAR
VERSION:2.0
PRODID:spatie/icalendar-generator
DESCRIPTION:Events from Republican Women of Pitt County
X-WR-CALDESC:Events from Republican Women of Pitt County
REFRESH-INTERVAL;VALUE=DURATION:PT1440M
X-PUBLISHED-TTL:PT1440M
BEGIN:VTIMEZONE
TZID:Etc/GMT+0
BEGIN:STANDARD
DTSTART:20220821T000000Z
TZOFFSETFROM:+0000
TZOFFSETTO:+0000
END:STANDARD
END:VTIMEZONE
BEGIN:VTIMEZONE
TZID:UTC
BEGIN:STANDARD
DTSTART:20250723T124249Z
TZOFFSETFROM:+0000
TZOFFSETTO:+0000
END:STANDARD
END:VTIMEZONE
BEGIN:VEVENT
UID:105-104
DTSTAMP:20260419T124249Z
SUMMARY:Hal Weatherman
LOCATION:Greenville Country Club 216 Country Club Drive  Greenville NC 2783
 4
ORGANIZER;CN=The Republican Women of Pitt County:MAILTO:kenrobol01@gmail.co
 m
DTSTART;TZID=Etc/GMT+0;VALUE=DATE:20230518
DTEND;TZID=Etc/GMT+0;VALUE=DATE:20230519
X-ALT-DESC;FMTTYPE=TEXT/HTML:Join us at the Greenville\, NC Country Club to
  meet Hal Weatherman\, candidate for NC Lit. Governor.
CATEGORIES:General
URL;VALUE=URI:https://rwpcnc.org/mc-events/hal-weatherman/
METHOD:PUBLISH
END:VEVENT
END:VCALENDAR