BEGIN:VCALENDAR
VERSION:2.0
PRODID:spatie/icalendar-generator
DESCRIPTION:Events from Republican Women of Pitt County
X-WR-CALDESC:Events from Republican Women of Pitt County
REFRESH-INTERVAL;VALUE=DURATION:PT1440M
X-PUBLISHED-TTL:PT1440M
BEGIN:VTIMEZONE
TZID:Etc/GMT+0
BEGIN:STANDARD
DTSTART:20231119T113000Z
TZOFFSETFROM:+0000
TZOFFSETTO:+0000
END:STANDARD
END:VTIMEZONE
BEGIN:VTIMEZONE
TZID:UTC
BEGIN:STANDARD
DTSTART:20250726T090624Z
TZOFFSETFROM:+0000
TZOFFSETTO:+0000
END:STANDARD
END:VTIMEZONE
BEGIN:VEVENT
UID:123-122
DTSTAMP:20260422T090624Z
SUMMARY:Monthly Meeting
LOCATION:
ORGANIZER;CN=The Republican Women of Pitt County:MAILTO:kenrobol01@gmail.co
 m
DTSTART;TZID=Etc/GMT+0:20240815T113000
DTEND;TZID=Etc/GMT+0:20240815T133000
X-ALT-DESC;FMTTYPE=TEXT/HTML:RWPC Luncheon
CATEGORIES:Events
URL;VALUE=URI:https://rwpcnc.org/mc-events/monthly-meeting-3/
METHOD:PUBLISH
END:VEVENT
END:VCALENDAR